BEGIN:VCALENDAR
VERSION:2.0
PRODID:-//Bridgend Automobile Club - ECPv6.15.20//NONSGML v1.0//EN
CALSCALE:GREGORIAN
METHOD:PUBLISH
X-WR-CALNAME:Bridgend Automobile Club
X-ORIGINAL-URL:https://bridgend-automobile-club.com
X-WR-CALDESC:Events for Bridgend Automobile Club
REFRESH-INTERVAL;VALUE=DURATION:PT1H
X-Robots-Tag:noindex
X-PUBLISHED-TTL:PT1H
BEGIN:VTIMEZONE
TZID:Europe/London
BEGIN:DAYLIGHT
TZOFFSETFROM:+0000
TZOFFSETTO:+0100
TZNAME:BST
DTSTART:20240331T010000
END:DAYLIGHT
BEGIN:STANDARD
TZOFFSETFROM:+0100
TZOFFSETTO:+0000
TZNAME:GMT
DTSTART:20241027T010000
END:STANDARD
BEGIN:DAYLIGHT
TZOFFSETFROM:+0000
TZOFFSETTO:+0100
TZNAME:BST
DTSTART:20250330T010000
END:DAYLIGHT
BEGIN:STANDARD
TZOFFSETFROM:+0100
TZOFFSETTO:+0000
TZNAME:GMT
DTSTART:20251026T010000
END:STANDARD
BEGIN:DAYLIGHT
TZOFFSETFROM:+0000
TZOFFSETTO:+0100
TZNAME:BST
DTSTART:20260329T010000
END:DAYLIGHT
BEGIN:STANDARD
TZOFFSETFROM:+0100
TZOFFSETTO:+0000
TZNAME:GMT
DTSTART:20261025T010000
END:STANDARD
END:VTIMEZONE
BEGIN:VEVENT
DTSTART;TZID=Europe/London:20250316T090000
DTEND;TZID=Europe/London:20250316T150000
DTSTAMP:20260424T001649
CREATED:20241211T150117Z
LAST-MODIFIED:20241211T150402Z
UID:3165-1742115600-1742137200@bridgend-automobile-club.com
SUMMARY:Llandow Autotest – 16th March 2025
DESCRIPTION:Click here for the What 3 Words Location
URL:https://bridgend-automobile-club.com/event/llandow-autotest-16th-march-2025/
LOCATION:Llandow\, Vale of Glamorgan\, United Kingdom
CATEGORIES:Autotest,Chairmans,Clubmans,Drivers,Juniors,Specials,Trailer
END:VEVENT
BEGIN:VEVENT
DTSTART;TZID=Europe/London:20250223T090000
DTEND;TZID=Europe/London:20250223T150000
DTSTAMP:20260424T001649
CREATED:20241211T145629Z
LAST-MODIFIED:20241211T150709Z
UID:3163-1740301200-1740322800@bridgend-automobile-club.com
SUMMARY:Llandow Autotest – 23rd February 2025
DESCRIPTION:Click Here for What 3 Words Location
URL:https://bridgend-automobile-club.com/event/llandow-autotest-23rd-february-2025/
LOCATION:Llandow\, Vale of Glamorgan\, United Kingdom
CATEGORIES:Autotest,Chairmans,Clubmans,Drivers,Juniors,Specials,Trailer
END:VEVENT
END:VCALENDAR