BEGIN:VCALENDAR
VERSION:2.0
PRODID:-//Bridgend Automobile Club - ECPv6.15.20//NONSGML v1.0//EN
CALSCALE:GREGORIAN
METHOD:PUBLISH
X-ORIGINAL-URL:https://bridgend-automobile-club.com
X-WR-CALDESC:Events for Bridgend Automobile Club
REFRESH-INTERVAL;VALUE=DURATION:PT1H
X-Robots-Tag:noindex
X-PUBLISHED-TTL:PT1H
BEGIN:VTIMEZONE
TZID:UTC
BEGIN:STANDARD
TZOFFSETFROM:+0000
TZOFFSETTO:+0000
TZNAME:UTC
DTSTART:20210101T000000
END:STANDARD
END:VTIMEZONE
BEGIN:VTIMEZONE
TZID:UTC
BEGIN:STANDARD
TZOFFSETFROM:+0000
TZOFFSETTO:+0000
TZNAME:UTC
DTSTART:20120101T000000
END:STANDARD
END:VTIMEZONE
BEGIN:VEVENT
DTSTART;TZID=UTC:20220123T094500
DTEND;TZID=UTC:20220123T160000
DTSTAMP:20260424T060013
CREATED:20211221T110022Z
LAST-MODIFIED:20211221T114712Z
UID:1935-1642931100-1642953600@bridgend-automobile-club.com
SUMMARY:Llandow Autotest - Sunday 23rd January 2022
DESCRIPTION:Autotest Sign On is carried out online with details published on Facebook. The gates at Llandow will be opened at 9:45am until the event start at 10:30am or until all participants have entered the site. \nYou must produce your Club Membership card (BAC or invited club) and your MSUK CLUBMANS LICENCE to gain entry \n STRICTLY NO SPECTATORS INSIDE THE SITE ALLOWED
URL:https://bridgend-automobile-club.com/event/llandow-autotest-sunday-23rd-january-2022/
LOCATION:Llandow\, Vale of Glamorgan\, United Kingdom
CATEGORIES:Autotest,Chairmans,Clubmans,Drivers,Juniors
END:VEVENT
BEGIN:VEVENT
DTSTART;VALUE=DATE:20130908
DTEND;VALUE=DATE:20130909
DTSTAMP:20260424T060013
CREATED:20130708T090052Z
LAST-MODIFIED:20130708T091522Z
UID:126-1378598400-1378684799@bridgend-automobile-club.com
SUMMARY:Argoed Quarry
DESCRIPTION:
URL:https://bridgend-automobile-club.com/event/8th-september-argoed-quarry/
LOCATION:Argoed Quarry
CATEGORIES:Autotest,Juniors,Specials
END:VEVENT
END:VCALENDAR